BEGIN:VCALENDAR
METHOD:PUBLISH
PRODID:-//173.208.49.167//NONSGML iCalcreator 2.6//
VERSION:2.0
X-WR-CALNAME:Fridae Agenda (5926)
X-WR-CALDESC:Fridae Agenda (5926)
X-WR-TIMEZONE:Asia/Singapore
BEGIN:VEVENT
UID:20260419T141139CEST-8794LoZ7MW@173.208.49.167
DTSTAMP:20260419T121139Z
DESCRIPTION:https://www.fridae.asia/sc/agenda/5926\n\n1/15\n¤台南\n成
 大學護理系\n台南市大學路1號建國校區護理館109室\n\n2/1
 9\nv台北\n同志諮詢熱線協會\n北市羅斯福路2段70號12樓\n\n
 3/19\nv台中\n彩虹天堂\n台中市北區404一中街116巷9號\n\n3/26
 \n¤高雄\n熱線南部辦公室\n高雄市中山2路472號8樓\n\n4/16\n
 v台北\n同志諮詢熱線協會\n北市羅斯福路2段70號12樓\n\n5
 \n¤嘉義\n未定\n(請洽南部辦公室)\n\n5/14\nv花蓮\n凱風卡
 書店\n花蓮市中美路81號\n\n6/18\nv台北\n同志諮詢熱線協
 \n北市羅斯福路2段70號12樓\n\n8/20\nv台北\n同志諮詢熱線
 會\n北市羅斯福路2段70號12樓\n\n8/27\n¤高雄\n熱線南部辦
 室\n高雄市中山2路472號8樓\n\n9/17\nv台中\n彩虹天堂\n台
 市北區404一中街116巷9號\n\n10月\n¤台東\n未定\n(請洽南部
 辦公室)\n10/15\n\nv台北\n同志諮詢熱線協會\n北市羅斯福路
 2段70號12樓\n\n11/19\n¤高雄\n熱線南部辦公室\n高雄市中山2
 路472號8樓\n\n12/17\nv台北\n同志諮詢熱線協會\n北市羅斯福
 路2段70號12樓\n\n12/17\n¤屏東\n未定\n(請洽南部辦公室)\n\n
 \nv9場由台北總會負責，相關問題請於每週一至五下午二
 至十點洽詢02-23921969。\n\n¤7場由本會南部辦公室負責，
 相關問題請於每週一至五下午二點至十點洽詢07-2811265。
 \n\n\n說明:活動皆為下午二點開始 \,全程免費\,並邀請性
 教育專家及過來人父母現場分享\,但本活動只開放給擔
 孩子是同志的父母或同志父母及其親人參加\,謝絕一般
 眾及媒體。\n
DTSTART:20110114T170000
DTEND:20111216T170000
LOCATION:
SUMMARY:100年《同志父母親人座談會》全台舉辦時間表
END:VEVENT
END:VCALENDAR
