BEGIN:VCALENDAR
METHOD:PUBLISH
PRODID:-//173.208.49.167//NONSGML iCalcreator 2.6//
VERSION:2.0
X-WR-CALNAME:Fridae Agenda (6562)
X-WR-CALDESC:Fridae Agenda (6562)
X-WR-TIMEZONE:Asia/Singapore
BEGIN:VEVENT
UID:20260418T065055CEST-6901mFu3pA@173.208.49.167
DTSTAMP:20260418T045055Z
DESCRIPTION:https://www.fridae.asia/tc/agenda/6562\n\nFetish Friday at the 
 Copa Showbar\, Boyz Town\, Pattaya\, Thailand\n\nSpecial Shows by the Copa
  Show Boys.\n\nFantastic costumes and sexy dancers.\n\nUnderwater show at 
 10.30pm followed by the special cabaret at 11pm.\n\nCum early for the best
  seats!!!
DTSTART:20110421T180000
DTEND:20110422T180000
LOCATION:
SUMMARY:Fetish Friday
END:VEVENT
END:VCALENDAR
