BEGIN:VCALENDAR
METHOD:PUBLISH
PRODID:-//173.208.49.167//NONSGML iCalcreator 2.6//
VERSION:2.0
X-WR-CALNAME:Fridae Agenda (6521)
X-WR-CALDESC:Fridae Agenda (6521)
X-WR-TIMEZONE:Asia/Singapore
BEGIN:VEVENT
UID:20260424T211106CEST-90821DJnal@173.208.49.167
DTSTAMP:20260424T191106Z
DESCRIPTION:https://www.fridae.asia/hk/agenda/6521\n\nTis the season: The w
 eather is getting warmer and as the weight of winter melts off our shoulde
 rs- BOOM! time for taxes. If you're like me\, this can be a very confusing
  time. So many numbers and papers and words I just don't understand.\n\nSo
 und familiar? You're in luck! This year we have our fabulous bookkeeper Co
 ry coming in to help us out!\n\nWhat we need from you: those forms employe
 rs send you at the end of every year- maybe it's a W-2\, W-4\, or a 10-99 
 misc (if you've recieved a stipend from FIERCE in 2010 it's a 10-99) and a
 nything else tax related. e.g. things you got in the mail about student lo
 an payments\, interest income\, etc.\n\nFor more information contact emers
 on \n\n------------\n	\nFIERCE is a membership-based organization building
  the leadership and power of LGBTQ youth of color\, ages 13 to 24.\n	\nFIE
 RCE is a membership-based organization building the leadership and power o
 f lesbian\, gay\, bisexual\, transgender\, and queer (LGBTQ) youth of colo
 r in New York City. We develop politically conscious leaders who are inves
 ted in improving ourselves and our communities through youth-led campaigns
 \, leadership development programs\, and cultural expression through arts 
 and media. FIERCE is dedicated to cultivating the next generation of socia
 l justice movement leaders who are dedicated to ending all forms of oppres
 sion.\n\nThe FIERCE office is open for drop-in hours for LGBTQ youth of co
 lor (ages 13-24) Monday through Friday from 4:00 - 8:00pm.\n
DTSTART:20110331T180000
DTEND:20110331T180000
LOCATION:
SUMMARY:Future Friday: Umm...Taxes?
END:VEVENT
END:VCALENDAR
