BEGIN:VCALENDAR
METHOD:PUBLISH
PRODID:-//173.208.49.167//NONSGML iCalcreator 2.6//
VERSION:2.0
X-WR-CALNAME:Fridae Agenda (8101)
X-WR-CALDESC:Fridae Agenda (8101)
X-WR-TIMEZONE:Asia/Singapore
BEGIN:VEVENT
UID:20260426T044905CEST-2240fEoeTD@173.208.49.167
DTSTAMP:20260426T024905Z
DESCRIPTION:https://www.fridae.asia/sc/agenda/8101\n\nSingapore’s showcas
 e of LGBT short films returns for its fifth installment\, which continues 
 to limn an extraordinary spectrum of LGBT experiences and perspectives. By
  turns heartwarming\, funny\, provocative and wistful\, the selection is t
 estimony once again to the vitality and range of our filmmakers.\n\n\n<b>T
 HE LINE-UP</b>\n\n<b>KRISTY</b> | Marcia Ong | 7” | English\nA little gi
 rl who is in love with her favorite T-shirt is locked in a battle of wills
  with her mother\, who wishes she would start wearing dresses.\n\n<b>SOMED
 AY MY PRINCE WILL COME</b> | Ezzam Rahman | 6” | No Dialogue\n“Good th
 ings come to those who wait” – it is about what lies around the corner
 \, the anticipation of it all\, the yearning for something to happen. If o
 nly we knew when.\n\n<b>LABOUR DAY</b> | He Shuming | 23” | Mandarin\, M
 alay and English (With English subtitles)\nCik visits her old flat to coll
 ect rent from two foreign worker tenants – Zoe\, a Malaysian-Chinese who
  dreams of being a star\, and Purple\, a study-mama from China who is hidi
 ng a secret from her son. \n<a href='http://vimeo.com/11785884' target='_b
 lank'>Trailer here.</a>\n\n<b>SISTERS</b> | Lincoln Chia | 9” | English 
 and Mandarin (With English subtitles)\nThe Chinese custom for bridesmaids\
 , or “sisters”\, to playfully impede a groom’s progress on the morni
 ng of the wedding\, as he arrives at the home of the bride to fetch her\, 
 takes on a dark\, poignant twist.\n\n<b>TRANSIT</b> | Regina Tan | 10” |
  Malay (with English Subtitles)\nSri\, an aspiring dancer\, reflects on he
 r difficult circumstances as she seeks to embrace a selfhood that our soci
 ety marginalizes and makes moral judgments on.\n\n<b>THIN AIR</b> | Kirste
 n Tan | 12” | English\nA whimsical tale chronicling the final days of He
 ctor\, a wheelchair-bound old man who is occupied with fishing – from th
 e rooftop of an apartment building in New York City.\n\n<b>SWING</b> | Leo
 n Cheo | 6” | English\nA few weeks after Wei Long and Daniel have broken
  up\, Daniel asks Wei Long to meet him one more time.\n\n<b>CHANCRE</b>  |
  Loo Zihan | 17” | English\nChancre – a painless ulceration formed at 
 the onset of syphilis\; a transmutation of a memory couched in shame. Film
  includes text excerpts from Paul Gauguin’s The Writings of a Savage and
  Walter William Skeat’s Malay Magic.\nExcerpt here (note: graphic conten
 t).\n<a href='http://loozihan.com/portfolios/90001-chancre-2011' target='_
 blank'>TRAILER</a>\n\n\nYou can purchase your tickets at $10 each\, via Pa
 yPal at http://shortcircuitsg.tumblr.com/ and collect them at the door on 
 6th January from 6:30pm with the electronic payment receipt for verificati
 on.\n\nProceeds will go to Young Out Here (YOH)\, a support group for LGBT
  youth in Singapore.\n\nFor more on YOH\, visit \n<a href='http://young-ou
 t-here.blogspot.com/' target='_blank'>http://young-out-here.blogspot.com/<
 /a>\n
DTSTART:20120105T170000
DTEND:20120105T170000
LOCATION:
SUMMARY:Short Circuit 05
END:VEVENT
END:VCALENDAR
