BEGIN:VCALENDAR
METHOD:PUBLISH
PRODID:-//173.208.49.167//NONSGML iCalcreator 2.6//
VERSION:2.0
X-WR-CALNAME:Fridae Agenda (7972)
X-WR-CALDESC:Fridae Agenda (7972)
X-WR-TIMEZONE:Asia/Singapore
BEGIN:VEVENT
UID:20260420T022750CEST-2767UTiCvU@173.208.49.167
DTSTAMP:20260420T002750Z
DESCRIPTION:https://www.fridae.asia/tc/agenda/7972\n\nOur last Diwali meet 
 was very festive and we had many first time guests\, who were quite comfor
 table with the safe space and were glad to meet others in the queer commun
 ity socially.\n\nThe November monthly board game social meet is happening 
 on Saturday\, November 19th afternoon.\n\nPlease invite your friends to jo
 in this meet.\n\nDate: November 19th 2011\, Saturday\nTime: 3pm to 8 pm\n
 \nAddress:\nSameer Ghunakikar\nC-1\, Paras Apartments\,\nShanti Colony\,\n
 Jeevarathnam Nagar\,\nAdyar\,\nChennai 600 020\n\nTelephone - 909 475 8800
 \n
DTSTART:20111118T170000
DTEND:20111118T170000
LOCATION:
SUMMARY:Saturday Afternoon MP/Orinam Monthly Social Meetup
END:VEVENT
END:VCALENDAR
